BEGIN:VCALENDAR
PRODID:-//AT Content Types//AT Event//EN
VERSION:2.0
METHOD:PUBLISH
BEGIN:VEVENT
DTSTAMP:20260423T164215Z
CREATED:20150325T195820Z
UID:ATEvent-4f67b781105c4e60a74818934b984fd8
LAST-MODIFIED:20150325T195840Z
SUMMARY:Sticky Event that is far out in the future
DTSTART:20151125T200000Z
DTEND:20151126T013000Z
LOCATION:Wallingford
CATEGORIES:Sticky
CLASS:PUBLIC
END:VEVENT
END:VCALENDAR
